BEGIN:VCALENDAR
VERSION:2.0
PRODID:-//Gary Reiss PhD - ECPv6.15.20//NONSGML v1.0//EN
CALSCALE:GREGORIAN
METHOD:PUBLISH
X-WR-CALNAME:Gary Reiss PhD
X-ORIGINAL-URL:https://garyreiss.com
X-WR-CALDESC:Events for Gary Reiss PhD
REFRESH-INTERVAL;VALUE=DURATION:PT1H
X-Robots-Tag:noindex
X-PUBLISHED-TTL:PT1H
BEGIN:VTIMEZONE
TZID:America/New_York
BEGIN:DAYLIGHT
TZOFFSETFROM:-0500
TZOFFSETTO:-0400
TZNAME:EDT
DTSTART:20190310T070000
END:DAYLIGHT
BEGIN:STANDARD
TZOFFSETFROM:-0400
TZOFFSETTO:-0500
TZNAME:EST
DTSTART:20191103T060000
END:STANDARD
BEGIN:DAYLIGHT
TZOFFSETFROM:-0500
TZOFFSETTO:-0400
TZNAME:EDT
DTSTART:20200308T070000
END:DAYLIGHT
BEGIN:STANDARD
TZOFFSETFROM:-0400
TZOFFSETTO:-0500
TZNAME:EST
DTSTART:20201101T060000
END:STANDARD
BEGIN:DAYLIGHT
TZOFFSETFROM:-0500
TZOFFSETTO:-0400
TZNAME:EDT
DTSTART:20210314T070000
END:DAYLIGHT
BEGIN:STANDARD
TZOFFSETFROM:-0400
TZOFFSETTO:-0500
TZNAME:EST
DTSTART:20211107T060000
END:STANDARD
BEGIN:DAYLIGHT
TZOFFSETFROM:-0500
TZOFFSETTO:-0400
TZNAME:EDT
DTSTART:20220313T070000
END:DAYLIGHT
BEGIN:STANDARD
TZOFFSETFROM:-0400
TZOFFSETTO:-0500
TZNAME:EST
DTSTART:20221106T060000
END:STANDARD
BEGIN:DAYLIGHT
TZOFFSETFROM:-0500
TZOFFSETTO:-0400
TZNAME:EDT
DTSTART:20230312T070000
END:DAYLIGHT
BEGIN:STANDARD
TZOFFSETFROM:-0400
TZOFFSETTO:-0500
TZNAME:EST
DTSTART:20231105T060000
END:STANDARD
BEGIN:DAYLIGHT
TZOFFSETFROM:-0500
TZOFFSETTO:-0400
TZNAME:EDT
DTSTART:20240310T070000
END:DAYLIGHT
BEGIN:STANDARD
TZOFFSETFROM:-0400
TZOFFSETTO:-0500
TZNAME:EST
DTSTART:20241103T060000
END:STANDARD
END:VTIMEZONE
BEGIN:VEVENT
DTSTART;VALUE=DATE:20231006
DTEND;VALUE=DATE:20231009
DTSTAMP:20260423T120126
CREATED:20230711T095352Z
LAST-MODIFIED:20230711T095352Z
UID:1080-1696550400-1696809599@garyreiss.com
SUMMARY:Healing History
DESCRIPTION:Healing History\, With Mark and Lea. Contact Mark at Mark O’Connell <mark.oconnell@apricotcentre.co.uk
URL:https://garyreiss.com/event/healing-history-4/
LOCATION:Totnes\, Totnes\, England\, United Kingdom
END:VEVENT
BEGIN:VEVENT
DTSTART;VALUE=DATE:20230929
DTEND;VALUE=DATE:20231002
DTSTAMP:20260423T120126
CREATED:20230711T095045Z
LAST-MODIFIED:20230711T095045Z
UID:1078-1695945600-1696204799@garyreiss.com
SUMMARY:Healing History
DESCRIPTION:Healing History\, with Bogna. Contact Joanna Sadowska-Buda joannasadowska@hotmail.com
URL:https://garyreiss.com/event/healing-history-3/
LOCATION:Warsaw\, Poland
END:VEVENT
BEGIN:VEVENT
DTSTART;VALUE=DATE:20230921
DTEND;VALUE=DATE:20230924
DTSTAMP:20260423T120126
CREATED:20230711T094851Z
LAST-MODIFIED:20230711T094851Z
UID:1074-1695254400-1695513599@garyreiss.com
SUMMARY:Trauma Work
DESCRIPTION:Trauma Work—Preventing\, Healing\, and Moving On From Trauma. With Emmanuel\, Sage\, Amanda Manasra. Write greissoffice@gmail.com for more information.
URL:https://garyreiss.com/event/trauma-work/
LOCATION:Beit Jallah\, Palestine\, Israel
END:VEVENT
BEGIN:VEVENT
DTSTART;VALUE=DATE:20230818
DTEND;VALUE=DATE:20230821
DTSTAMP:20260423T120126
CREATED:20230711T094614Z
LAST-MODIFIED:20230711T094644Z
UID:1071-1692316800-1692575999@garyreiss.com
SUMMARY:Deep Bodywork (Online)
DESCRIPTION:Deep Bodywork\, with Anat\, contact greissoffice@gmail.com for more information.
URL:https://garyreiss.com/event/deep-bodywork/
LOCATION:England
END:VEVENT
BEGIN:VEVENT
DTSTART;VALUE=DATE:20230721
DTEND;VALUE=DATE:20230811
DTSTAMP:20260423T120126
CREATED:20230711T094446Z
LAST-MODIFIED:20230711T094446Z
UID:1068-1689897600-1691711999@garyreiss.com
SUMMARY:Healing History (Online)
DESCRIPTION:Healing History—Conflict Work in Families\, Organizations\, Businesses\, Countries with Bogna and Emmanuel\, write greissoffice@gmail.com for more information.
URL:https://garyreiss.com/event/healing-history-online/
LOCATION:England
END:VEVENT
BEGIN:VEVENT
DTSTART;VALUE=DATE:20201121
DTEND;VALUE=DATE:20201123
DTSTAMP:20260423T120126
CREATED:20200128T185238Z
LAST-MODIFIED:20200128T185238Z
UID:558-1605916800-1606089599@garyreiss.com
SUMMARY:Healing History
DESCRIPTION:Healing History— Processing Personal Family and Historical Trauma.
URL:https://garyreiss.com/event/healing-history-2/
LOCATION:Portland\, Oregon\, Canada
END:VEVENT
BEGIN:VEVENT
DTSTART;VALUE=DATE:20200912
DTEND;VALUE=DATE:20200914
DTSTAMP:20260423T120126
CREATED:20200128T185131Z
LAST-MODIFIED:20200128T185131Z
UID:556-1599868800-1600041599@garyreiss.com
SUMMARY:Altered and Extreme States Addictions
DESCRIPTION:Altered and Extreme States Addictions—New Approaches for Freedom and Enlightenment.
URL:https://garyreiss.com/event/altered-and-extreme-states-addictions/
LOCATION:Portland\, Oregon\, Canada
END:VEVENT
BEGIN:VEVENT
DTSTART;VALUE=DATE:20200718
DTEND;VALUE=DATE:20200720
DTSTAMP:20260423T120126
CREATED:20200128T184957Z
LAST-MODIFIED:20200128T184957Z
UID:554-1595030400-1595203199@garyreiss.com
SUMMARY:Dreambody and Deep Bodywork
DESCRIPTION:Dreambody and Deep Bodywork. \ncontact PWI at 503-223-8188.
URL:https://garyreiss.com/event/dreambody-and-deep-bodywork/
LOCATION:Portland\, Oregon\, Canada
END:VEVENT
BEGIN:VEVENT
DTSTART;VALUE=DATE:20200624
DTEND;VALUE=DATE:20200629
DTSTAMP:20260423T120126
CREATED:20200128T185329Z
LAST-MODIFIED:20200128T185329Z
UID:560-1592956800-1593388799@garyreiss.com
SUMMARY:Advanced Coma Work
DESCRIPTION:Advanced Coma Work Level Seminar Closed.
URL:https://garyreiss.com/event/advanced-coma-work/
LOCATION:Tokyo\, Tokyo\, Japan
END:VEVENT
BEGIN:VEVENT
DTSTART;VALUE=DATE:20200523
DTEND;VALUE=DATE:20200529
DTSTAMP:20260423T120126
CREATED:20200128T184840Z
LAST-MODIFIED:20200128T184840Z
UID:552-1590192000-1590710399@garyreiss.com
SUMMARY:Worldwork with Staff
DESCRIPTION:Worldwork with Staff. \ncontact ww2020bc@gmail.com
URL:https://garyreiss.com/event/worldwork-with-staff/
LOCATION:Vancouver\, British Columbia\, Canada
END:VEVENT
BEGIN:VEVENT
DTSTART;VALUE=DATE:20200508
DTEND;VALUE=DATE:20200512
DTSTAMP:20260423T120126
CREATED:20200128T184729Z
LAST-MODIFIED:20200128T184729Z
UID:550-1588896000-1589241599@garyreiss.com
SUMMARY:MAPOF 5
DESCRIPTION:MAPOF 5 closed review and assessment seminar.
URL:https://garyreiss.com/event/mapof-5/
LOCATION:Portland\, Oregon\, Canada
END:VEVENT
BEGIN:VEVENT
DTSTART;VALUE=DATE:20200502
DTEND;VALUE=DATE:20200508
DTSTAMP:20260423T120126
CREATED:20200128T184543Z
LAST-MODIFIED:20200128T184543Z
UID:548-1588377600-1588895999@garyreiss.com
SUMMARY:MAPOF 6
DESCRIPTION:MAPOF 6\, Worldwork Training\, closed group.
URL:https://garyreiss.com/event/mapof-6/
LOCATION:Portland\, Oregon\, Canada
END:VEVENT
BEGIN:VEVENT
DTSTART;VALUE=DATE:20200403
DTEND;VALUE=DATE:20200406
DTSTAMP:20260423T120126
CREATED:20200128T184336Z
LAST-MODIFIED:20200128T184336Z
UID:546-1585872000-1586131199@garyreiss.com
SUMMARY:Process oriented Trauma Healing
DESCRIPTION:Process oriented Trauma Healing. \ncontact Lea Misan at leamisan@me.com
URL:https://garyreiss.com/event/process-oriented-trauma-healing-2/
LOCATION:Bethlehem\, Palestine\, Israel
END:VEVENT
BEGIN:VEVENT
DTSTART;VALUE=DATE:20200327
DTEND;VALUE=DATE:20200330
DTSTAMP:20260423T120126
CREATED:20200128T184150Z
LAST-MODIFIED:20200128T184150Z
UID:544-1585267200-1585526399@garyreiss.com
SUMMARY:Family Therapy
DESCRIPTION:Family Therapy. \ncontact owen@silkhousetherapypractice.co.uk
URL:https://garyreiss.com/event/family-therapy/
LOCATION:Manchester\, England\, United Kingdom
END:VEVENT
BEGIN:VEVENT
DTSTART;VALUE=DATE:20200320
DTEND;VALUE=DATE:20200323
DTSTAMP:20260423T120126
CREATED:20200128T184052Z
LAST-MODIFIED:20200128T184052Z
UID:542-1584662400-1584921599@garyreiss.com
SUMMARY:Healing History
DESCRIPTION:Healing History. \ncontact Lea Misan at leamisan@me.com
URL:https://garyreiss.com/event/healing-history/
LOCATION:London\, England\, United Kingdom
END:VEVENT
BEGIN:VEVENT
DTSTART;VALUE=DATE:20200316
DTEND;VALUE=DATE:20200317
DTSTAMP:20260423T120126
CREATED:20200128T183950Z
LAST-MODIFIED:20200128T183950Z
UID:540-1584316800-1584403199@garyreiss.com
SUMMARY:New Developments
DESCRIPTION:New Developments in Process oriented Organizational and Conflict Work. \ncontact Amir at amirnazar84@gmail.com
URL:https://garyreiss.com/event/new-developments/
LOCATION:Amsterdam\, Holland\, Netherlands
END:VEVENT
BEGIN:VEVENT
DTSTART;TZID=America/New_York:20200313T080000
DTEND;TZID=America/New_York:20200315T170000
DTSTAMP:20260423T120126
CREATED:20200128T183840Z
LAST-MODIFIED:20200128T183840Z
UID:538-1584086400-1584291600@garyreiss.com
SUMMARY:Sitting in the Fire
DESCRIPTION:Sitting in the Fire. \ncontact Amir at amirnazar84@gmail.com
URL:https://garyreiss.com/event/sitting-in-the-fire/
LOCATION:Amsterdam\, Holland\, Netherlands
END:VEVENT
BEGIN:VEVENT
DTSTART;VALUE=DATE:20200307
DTEND;VALUE=DATE:20200309
DTSTAMP:20260423T120126
CREATED:20200128T183712Z
LAST-MODIFIED:20200128T183712Z
UID:534-1583539200-1583711999@garyreiss.com
SUMMARY:Process Oriented Trauma Healing
DESCRIPTION:Process Oriented Trauma Healing.
URL:https://garyreiss.com/event/process-oriented-trauma-healing/
LOCATION:Rome\, Italy
END:VEVENT
BEGIN:VEVENT
DTSTART;VALUE=DATE:20200215
DTEND;VALUE=DATE:20200217
DTSTAMP:20260423T120126
CREATED:20200128T183530Z
LAST-MODIFIED:20200128T183530Z
UID:532-1581724800-1581897599@garyreiss.com
SUMMARY:Love Sex and Spirit
DESCRIPTION:Love Sex and Spirit taught with Sage Emery. \nContact PWI at 503-223-8188.
URL:https://garyreiss.com/event/love-sex-and-spirit/
LOCATION:Portland\, Oregon\, Canada
END:VEVENT
BEGIN:VEVENT
DTSTART;VALUE=DATE:20200130
DTEND;VALUE=DATE:20200216
DTSTAMP:20260423T120126
CREATED:20200128T183424Z
LAST-MODIFIED:20200128T183424Z
UID:530-1580342400-1581811199@garyreiss.com
SUMMARY:Getting off the Wheel
DESCRIPTION:Process Oriented Family Therapy as a Path to Personal and Family Liberation\, an ongoing class. \ncontact PWI at 503-223-8188
URL:https://garyreiss.com/event/getting-off-the-wheel/
LOCATION:Portland\, Oregon\, Canada
END:VEVENT
END:VCALENDAR