BEGIN:VCALENDAR
VERSION:2.0
PRODID:-//Gary Reiss PhD - ECPv6.15.20//NONSGML v1.0//EN
CALSCALE:GREGORIAN
METHOD:PUBLISH
X-WR-CALNAME:Gary Reiss PhD
X-ORIGINAL-URL:https://garyreiss.com
X-WR-CALDESC:Events for Gary Reiss PhD
REFRESH-INTERVAL;VALUE=DURATION:PT1H
X-Robots-Tag:noindex
X-PUBLISHED-TTL:PT1H
BEGIN:VTIMEZONE
TZID:America/New_York
BEGIN:DAYLIGHT
TZOFFSETFROM:-0500
TZOFFSETTO:-0400
TZNAME:EDT
DTSTART:20190310T070000
END:DAYLIGHT
BEGIN:STANDARD
TZOFFSETFROM:-0400
TZOFFSETTO:-0500
TZNAME:EST
DTSTART:20191103T060000
END:STANDARD
BEGIN:DAYLIGHT
TZOFFSETFROM:-0500
TZOFFSETTO:-0400
TZNAME:EDT
DTSTART:20200308T070000
END:DAYLIGHT
BEGIN:STANDARD
TZOFFSETFROM:-0400
TZOFFSETTO:-0500
TZNAME:EST
DTSTART:20201101T060000
END:STANDARD
BEGIN:DAYLIGHT
TZOFFSETFROM:-0500
TZOFFSETTO:-0400
TZNAME:EDT
DTSTART:20210314T070000
END:DAYLIGHT
BEGIN:STANDARD
TZOFFSETFROM:-0400
TZOFFSETTO:-0500
TZNAME:EST
DTSTART:20211107T060000
END:STANDARD
END:VTIMEZONE
BEGIN:VEVENT
DTSTART;VALUE=DATE:20200320
DTEND;VALUE=DATE:20200323
DTSTAMP:20260423T151059
CREATED:20200128T184052Z
LAST-MODIFIED:20200128T184052Z
UID:542-1584662400-1584921599@garyreiss.com
SUMMARY:Healing History
DESCRIPTION:Healing History. \ncontact Lea Misan at leamisan@me.com
URL:https://garyreiss.com/event/healing-history/
LOCATION:London\, England\, United Kingdom
END:VEVENT
BEGIN:VEVENT
DTSTART;VALUE=DATE:20200316
DTEND;VALUE=DATE:20200317
DTSTAMP:20260423T151059
CREATED:20200128T183950Z
LAST-MODIFIED:20200128T183950Z
UID:540-1584316800-1584403199@garyreiss.com
SUMMARY:New Developments
DESCRIPTION:New Developments in Process oriented Organizational and Conflict Work. \ncontact Amir at amirnazar84@gmail.com
URL:https://garyreiss.com/event/new-developments/
LOCATION:Amsterdam\, Holland\, Netherlands
END:VEVENT
BEGIN:VEVENT
DTSTART;TZID=America/New_York:20200313T080000
DTEND;TZID=America/New_York:20200315T170000
DTSTAMP:20260423T151059
CREATED:20200128T183840Z
LAST-MODIFIED:20200128T183840Z
UID:538-1584086400-1584291600@garyreiss.com
SUMMARY:Sitting in the Fire
DESCRIPTION:Sitting in the Fire. \ncontact Amir at amirnazar84@gmail.com
URL:https://garyreiss.com/event/sitting-in-the-fire/
LOCATION:Amsterdam\, Holland\, Netherlands
END:VEVENT
BEGIN:VEVENT
DTSTART;VALUE=DATE:20200307
DTEND;VALUE=DATE:20200309
DTSTAMP:20260423T151059
CREATED:20200128T183712Z
LAST-MODIFIED:20200128T183712Z
UID:534-1583539200-1583711999@garyreiss.com
SUMMARY:Process Oriented Trauma Healing
DESCRIPTION:Process Oriented Trauma Healing.
URL:https://garyreiss.com/event/process-oriented-trauma-healing/
LOCATION:Rome\, Italy
END:VEVENT
BEGIN:VEVENT
DTSTART;VALUE=DATE:20200215
DTEND;VALUE=DATE:20200217
DTSTAMP:20260423T151059
CREATED:20200128T183530Z
LAST-MODIFIED:20200128T183530Z
UID:532-1581724800-1581897599@garyreiss.com
SUMMARY:Love Sex and Spirit
DESCRIPTION:Love Sex and Spirit taught with Sage Emery. \nContact PWI at 503-223-8188.
URL:https://garyreiss.com/event/love-sex-and-spirit/
LOCATION:Portland\, Oregon\, Canada
END:VEVENT
BEGIN:VEVENT
DTSTART;VALUE=DATE:20200130
DTEND;VALUE=DATE:20200216
DTSTAMP:20260423T151059
CREATED:20200128T183424Z
LAST-MODIFIED:20200128T183424Z
UID:530-1580342400-1581811199@garyreiss.com
SUMMARY:Getting off the Wheel
DESCRIPTION:Process Oriented Family Therapy as a Path to Personal and Family Liberation\, an ongoing class. \ncontact PWI at 503-223-8188
URL:https://garyreiss.com/event/getting-off-the-wheel/
LOCATION:Portland\, Oregon\, Canada
END:VEVENT
END:VCALENDAR